BEGIN:VCALENDAR
VERSION:2.0
PRODID:-//hacksw/handcal//NONSGML v1.0//EN
BEGIN:VEVENT
SUMMARY:Vide-greniers du dimanche 14 septembre 2025 ANNULE
UID:9c43c6e8-9797-4d2f-b770-4064acb85ca2
DTSTART:20250914T050000Z
DTEND:20250914T150000Z
LOCATION:Localisation Parking place de l'Europe 87220 FEYTIAT
CATEGORIES:Manifestation
STATUS:
DESCRIPTION:<p>Le document d'inscription au <strong>vide-greniers du
 dimanche 14 septembre 2025 </strong>est disponible ci-dessous au
 format Word ou Pdf.</p>
 
URL;VALUE=URI:https://www.feytiatbasket87.com/evenements/2025/09/14/vide-greniers-du-dimanche-14-septembre-2025-annule-2213024
END:VEVENT
END:VCALENDAR
